BEGIN:VCALENDAR
VERSION:2.0
PRODID:-//Stadtgeschichte München//DE
CALSCALE:GREGORIAN
BEGIN:VEVENT
UID:13384@stadtgeschichte-muenchen.de
SUMMARY:Das Geheimnis um die Geldquelle der Wittelsbacher
DESCRIPTION:&lt;p&gt;Bedingungslosen Grundeinkommen für den Hochadel, so könnte man den sogenannten &quot;Wittelsbacher Ausgleichsfonds&quot; nennen. Er geht zurück auf die Zeit reaktionärer Politik nach der Niederschlagung der Münchner Räterepublik. 1923 gewährte der Landtag der ehemals königlichen Familie auf ewige Zeiten eine sprudelnde Geldquelle in Form der Erträge eines Fonds, in dem ein Teil des Staatsvermögens eingebracht wurde: Wälder, Schlösser, Immobilien. 13 Millionen Euro werden so jedes Jahr an die Blaublütigen ausgeschüttet. Eigentlich eine Sauerei, meinte sinngemäß der königstreue Georg Lohmeier, Autor des &quot;Königlich bayerischen Amtsgerichtes&quot;.&lt;/p&gt; &lt;p&gt;Im Rahmen von Arbeit und Leben München&lt;/p&gt; 
DTSTART:20171116T180000
DTEND:20171116T200000
LOCATION:DGB-Haus, Raum T.0.03
ORGANIZER:DGB-Bildungswerk Bayern e.V. Region München
END:VEVENT
END:VCALENDAR