BEGIN:VCALENDAR
VERSION:2.0
PRODID:-//Stadtgeschichte München//DE
CALSCALE:GREGORIAN
BEGIN:VEVENT
UID:13398@stadtgeschichte-muenchen.de
SUMMARY:Blumenauer Sommerfest &quot;Leben in der Blumenau&quot;
DESCRIPTION:
DTSTART:20160723T000000
DTEND:20160723T000000
LOCATION:Kirche Erscheinung des Herrn
ORGANIZER:Blumenauer Archiv
END:VEVENT
END:VCALENDAR