BEGIN:VCALENDAR
VERSION:2.0
PRODID:-//Stadtgeschichte München//DE
CALSCALE:GREGORIAN
BEGIN:VEVENT
UID:13418@stadtgeschichte-muenchen.de
SUMMARY:Revolutionär und Ministerpräsident – Kurt Eisner (1867-1919)
DESCRIPTION:&lt;p&gt;Lesung aus dem Buch &quot;Steckbriefe gegen Eisner, Kurt u. Genossen wegen Landesverrats. Ein Lesebuch über Münchner Revolutionärinnen und Revolutionäre im Januar 1918&quot; von Günther Gerstenberg und Cornelia Naumann (Hrsg.)&lt;/p&gt; 
DTSTART:20170609T190000
DTEND:20170609T000000
LOCATION:Stadtmuseum München
ORGANIZER:Münchner Stadtmuseum
END:VEVENT
END:VCALENDAR