BEGIN:VCALENDAR
VERSION:2.0
PRODID:-//Stadtgeschichte München//DE
CALSCALE:GREGORIAN
BEGIN:VEVENT
UID:13425@stadtgeschichte-muenchen.de
SUMMARY:„Ohne Frauen geht nix“
DESCRIPTION:&lt;p&gt;im Rahmene des Stadtgründungsfestes&lt;/p&gt; 
DTSTART:20170617T140000
DTEND:20170617T000000
LOCATION:Stadtinformation / Neues Rathaus
ORGANIZER:Münchner Gästeführer Verein e.V.
END:VEVENT
END:VCALENDAR