BEGIN:VCALENDAR
VERSION:2.0
PRODID:-//Stadtgeschichte München//DE
CALSCALE:GREGORIAN
BEGIN:VEVENT
UID:13435@stadtgeschichte-muenchen.de
SUMMARY:Altstadtführung
DESCRIPTION:&lt;p&gt;Im Rahmen des Stadtgründungsfestes&lt;/p&gt; 
DTSTART:20170618T120000
DTEND:20170618T000000
LOCATION:Stadtinformation / Neues Rathaus
ORGANIZER:Münchner Gästeführer Verein e.V.
END:VEVENT
END:VCALENDAR