BEGIN:VCALENDAR
VERSION:2.0
PRODID:-//Stadtgeschichte München//DE
CALSCALE:GREGORIAN
BEGIN:VEVENT
UID:1345@stadtgeschichte-muenchen.de
SUMMARY:Schauen Sie uns in die Karten...
DESCRIPTION:&lt;p&gt;Das Landesamt f&amp;uuml;r Vermessung und Geoinformation (LVG) ist die &amp;auml;lteste und zugleich eine der modernsten technischen Beh&amp;ouml;rden Bayerns. Nicht nur topografische Karten und Stadtpl&amp;auml;ne sind Ergebnisse der Arbeit, auch das digitale Bild von Bayern entsteht am LVG. Von den Urspr&amp;uuml;ngen des Kartendruckes - einer weltweit einmaligen Lithografiesteinsammlung - &amp;uuml;ber die Druckhistorische Werkst&amp;auml;tte zum gr&amp;ouml;&amp;szlig;ten Luftbildarchiv Deutschlands und zur punktgenauen Ortsbestimmung mit dem Satellitenpositionierungsdienst durchleben Sie 200 Jahre der amtlichen Vermessung in Bayern.&lt;/p&gt;
DTSTART:20120201T160000
DTEND:20120201T180000
LOCATION:Alexandrastr. 4 (im Foyer
ORGANIZER:MVHS München Mitte   
END:VEVENT
END:VCALENDAR