BEGIN:VCALENDAR
VERSION:2.0
PRODID:-//Stadtgeschichte München//DE
CALSCALE:GREGORIAN
BEGIN:VEVENT
UID:13484@stadtgeschichte-muenchen.de
SUMMARY:Der Park Feldafing und die Roseninsel
DESCRIPTION:
DTSTART:20170729T140000
DTEND:20170729T000000
LOCATION:Parkzugang beim Hotel »Kaiserin  Elisabeth« in Feldafing · Tutzinger Str. 2
ORGANIZER:Bayerische Schlösserverwaltung
END:VEVENT
END:VCALENDAR