BEGIN:VCALENDAR
VERSION:2.0
PRODID:-//Stadtgeschichte München//DE
CALSCALE:GREGORIAN
BEGIN:VEVENT
UID:13485@stadtgeschichte-muenchen.de
SUMMARY:Musen am Hof der Wittelsbacher
DESCRIPTION: 
DTSTART:20170730T110000
DTEND:20170730T000000
LOCATION:Kasse Cuvillies-Theater
ORGANIZER:Bayerische Schlösserverwaltung
END:VEVENT
END:VCALENDAR