BEGIN:VCALENDAR
VERSION:2.0
PRODID:-//Stadtgeschichte München//DE
CALSCALE:GREGORIAN
BEGIN:VEVENT
UID:13491@stadtgeschichte-muenchen.de
SUMMARY:Ausstellungseröffnung „Obermenzing in historischen Ansichten“
DESCRIPTION:&lt;p&gt;Pasinger Fabrik mit Unterstützung des Stadtarchivs München und des Volk Verlags&lt;br /&gt; &amp;nbsp;&lt;/p&gt; 
DTSTART:20170726T190000
DTEND:20170726T000000
LOCATION:Pasinger Fabrik, August-Exter-Str. 1,
ORGANIZER:Pasinger Fabrik GmbH
END:VEVENT
END:VCALENDAR