BEGIN:VCALENDAR
VERSION:2.0
PRODID:-//Stadtgeschichte München//DE
CALSCALE:GREGORIAN
BEGIN:VEVENT
UID:13505@stadtgeschichte-muenchen.de
SUMMARY:»Glauben Sie mir, ein Mann, den man kommandieren kann, ist ein guter Fang!«
DESCRIPTION:
DTSTART:20170820T110000
DTEND:20170820T000000
LOCATION:Kasse Residenzmuseum 
ORGANIZER:Bayerische Schlösserverwaltung
END:VEVENT
END:VCALENDAR