BEGIN:VCALENDAR
VERSION:2.0
PRODID:-//Stadtgeschichte München//DE
CALSCALE:GREGORIAN
BEGIN:VEVENT
UID:1354@stadtgeschichte-muenchen.de
SUMMARY:Moderne Energiewirtschaft
DESCRIPTION:&lt;p&gt;Im Heizkraftwerk S&amp;uuml;d hat ein &amp;bdquo;Generationenwechsel&amp;ldquo; stattgefunden &amp;ndash; seit 1997 ist die M&amp;uuml;llverbrennungsanlage stillgelegt und&amp;nbsp; inzwischen r&amp;uuml;ckgebaut worden. Auf der frei gewordenen Fl&amp;auml;che ist ein neues hoch effizientes und aufgrund der sehr hohen Brennstoffausnutzung auch umweltfreundliches Heizkraftwerk entstanden. Im Verbund mit den anderen Energieerzeugungsanlagen der Stadtwerke hilft die Anlage so, die gesteckten Klimaziele aktiv anzustreben. Bei einem Rundgang bekommen Sie Einblick in die bisherige und zuk&amp;uuml;nftige Energiegewinnung und werfen einen Blick in die bestehenden Kraftwerksanlagen. &lt;br /&gt; Au&amp;szlig;erdem erfahren Sie Interessantes &amp;uuml;ber die historische Entwicklung dieses Heizkraftwerkstandortes.&lt;/p&gt; &lt;p&gt;F&amp;uuml;r die F&amp;uuml;hrung ist festes Schuhwerk erforderlich. Sie sollten au&amp;szlig;erdem schwindelfrei sein.&lt;/p&gt;
DTSTART:20120120T140000
DTEND:20120120T163000
LOCATION:Heizkraftwerk Süd Â· Isartalstr. (Eingang: Schäftlarnstr. 15) 
ORGANIZER:MVHS München Mitte   
END:VEVENT
END:VCALENDAR