BEGIN:VCALENDAR
VERSION:2.0
PRODID:-//Stadtgeschichte München//DE
CALSCALE:GREGORIAN
BEGIN:VEVENT
UID:1355@stadtgeschichte-muenchen.de
SUMMARY:„Drumrum um die Baustelle„
DESCRIPTION:&lt;p&gt;Im Mittelpunkt unseres Rundganges steht der bereits begonnene Umbau des Luise-Kiesselbach-Platzes mit der Untertunnelung. Beherrschendes Bauwerk dieses Platzes ist das Altersheim, das vom Stadtbaurat Hans Gr&amp;auml;ssel ab 1925 als ein &amp;bdquo;Gesamtkunstwerk&amp;ldquo; errichtet worden ist. Die gro&amp;szlig;z&amp;uuml;gige Anlage &amp;ndash; trotz historisierender Formensprache ein richtungsweisender Bau &amp;ndash; dominiert eine bemerkenswerte, neubarocke Kirche. Zum &amp;bdquo;Drumherum&amp;ldquo; geh&amp;ouml;rt auch ein (fast) original erhaltenes M&amp;uuml;nchner Wirtshaus aus den zwanziger Jahren, das wir zum Abschluss besuchen werden.&lt;/p&gt;
DTSTART:20111126T140000
DTEND:20111126T160000
LOCATION:Haus St. Josef, Haupteingang Luise-Kiesselbach-Platz 2 
ORGANIZER:MVHS München Mitte   
END:VEVENT
END:VCALENDAR