BEGIN:VCALENDAR
VERSION:2.0
PRODID:-//Stadtgeschichte München//DE
CALSCALE:GREGORIAN
BEGIN:VEVENT
UID:13576@stadtgeschichte-muenchen.de
SUMMARY:Brezn, Brot und  Bauernsemmel
DESCRIPTION:&lt;p&gt;Vielfältig und abwechslungsreicih ist die Geschichte des Brotbackens in München. Auf unserer „Brottour&quot; durch die Altstadt begegnen uns Küchelbäcker und Brezenreiter, &amp;nbsp;Pfister und Melber. Zwischendurch stärken wir uns mit Köstlichkeiten aus&amp;nbsp;Münchner Traditionsbäckereien.&lt;/p&gt; &lt;p&gt;&amp;nbsp;&lt;/p&gt; 
DTSTART:20170802T110000
DTEND:20170802T123000
LOCATION:Ecke Sparkassen./Pfisterstraße
ORGANIZER:Münchner Bildungswerk e.V.
END:VEVENT
END:VCALENDAR