BEGIN:VCALENDAR
VERSION:2.0
PRODID:-//Stadtgeschichte München//DE
CALSCALE:GREGORIAN
BEGIN:VEVENT
UID:13606@stadtgeschichte-muenchen.de
SUMMARY:Kirche und Boheme
DESCRIPTION:&lt;p&gt;Aus dem Bauerndorf Schwabing wurde im Lauf des 19. Jahrhunderts durch stete Zuwanderung ein Zentrum der Boheme. Gehen Sie auf Spurensuche von der Erlöserkirche durch Altschwabing bis zum neu renovierten St. Sylvester.&lt;/p&gt; 
DTSTART:20170531T150000
DTEND:20170531T163000
LOCATION:Erlöserkirche, Haupteingang
ORGANIZER:Münchner Bildungswerk e.V.
END:VEVENT
END:VCALENDAR