BEGIN:VCALENDAR
VERSION:2.0
PRODID:-//Stadtgeschichte München//DE
CALSCALE:GREGORIAN
BEGIN:VEVENT
UID:1364@stadtgeschichte-muenchen.de
SUMMARY:Der BA 19 informiert:
DESCRIPTION:&lt;p&gt;Im Jahr 2008 wurde der Ratzingerplatz in der Umfrage einer M&amp;uuml;nchner Tageszeitung zum h&amp;auml;sslichsten Platz der ganzen Stadt&amp;nbsp; gew&amp;auml;hlt. Doch auch ein st&amp;auml;dtischer &amp;bdquo;Schandfleck&amp;ldquo; muss nicht ewig einer bleiben. Aber wie soll es dort weitergehen? An der Aidenbachstra&amp;szlig;e wird die k&amp;uuml;nftige Tram-Westtangente enden und damit den Ratzingerplatz noch besser an das &amp;ouml;ffentliche&amp;nbsp; Nahverkehrsnetz anschlie&amp;szlig;en. Wie soll sich das umliegende Stadtquartier ingesamt entwickeln und welche Konzepte werden diskutiert? Ein Mitglied des BA 19 stellt den aktuellen Stand dar.&lt;/p&gt;
DTSTART:20120211T093000
DTEND:20120211T110000
LOCATION:U-Bahnhaltestelle Aidenbachstr., Ausgang Parkdeck
ORGANIZER:MVHS München Mitte   
END:VEVENT
END:VCALENDAR