BEGIN:VCALENDAR
VERSION:2.0
PRODID:-//Stadtgeschichte München//DE
CALSCALE:GREGORIAN
BEGIN:VEVENT
UID:13680@stadtgeschichte-muenchen.de
SUMMARY:Osterspaziergang vom Gasteig zur Monacensia
DESCRIPTION:
DTSTART:20180331T110000
DTEND:20180331T130000
LOCATION:Gasteig * Celibidacheforum * am Eingang zur Kinder- und Jugendbibliothek
ORGANIZER:Münchner Zeitensprünge
END:VEVENT
END:VCALENDAR