BEGIN:VCALENDAR
VERSION:2.0
PRODID:-//Stadtgeschichte München//DE
CALSCALE:GREGORIAN
BEGIN:VEVENT
UID:1370@stadtgeschichte-muenchen.de
SUMMARY:Idyllen der Großstadt
DESCRIPTION:&lt;p&gt;Das stimmungsvolle Kl&amp;ouml;sterchen Warnberg birgt feine Kunstwerke von Erasmus Grasser und Johann Baptist Straub; auf seinem&amp;nbsp; Gel&amp;auml;nde besteigen wir den h&amp;ouml;chstgelegenen Punkt M&amp;uuml;nchens. Zuvor spazieren wir durch das Dorf Solln: Alt-Solln ist der gr&amp;ouml;&amp;szlig;te und reizvollste Dorfkern im heutigen M&amp;uuml;nchner Stadtgebiet. Die im Kern mittelalterliche Kirche an der Herterichstra&amp;szlig;e, idyllische Pl&amp;auml;tze und Stra&amp;szlig;en sowie Bauernh&amp;ouml;fe, Handwerkersitze, Landh&amp;auml;user und Gasth&amp;ouml;fe sind die vielf&amp;auml;ltigen Kostbarkeiten auf diesem Rundgang.&lt;/p&gt;
DTSTART:20111027T143000
DTEND:20111027T170000
LOCATION:Portal der Pfarrkirche St. Johann Baptist Â· Fellererplatz 
ORGANIZER:MVHS München Mitte   
END:VEVENT
END:VCALENDAR