BEGIN:VCALENDAR
VERSION:2.0
PRODID:-//Stadtgeschichte München//DE
CALSCALE:GREGORIAN
BEGIN:VEVENT
UID:1372@stadtgeschichte-muenchen.de
SUMMARY:Treffen des Geschichtsvereins Hadern e. V.
DESCRIPTION:&lt;p&gt;Hadern kann auf eine lange Geschichte zurückblicken. Noch längst sind nicht alle Schätze dieses Stadtviertels gehoben. Der 2010&amp;nbsp; gegründete Geschichtsverein Hadern e. V. hat es sich zur Aufgabe gemacht, Zeugnisse der Vergangenheit und Gegenwart des Münchner Stadtbezirks Hadern zu erkunden, zu archivieren und der Öffentlichkeit zugänglich zu machen. Interessierte, die sich aktiv einbringen möchten, sind herzlich eingeladen.&lt;/p&gt; 
DTSTART:20111018T190000
DTEND:20111018T000000
LOCATION:Volkshochschule Â· Guardinistr. 90 
ORGANIZER:MVHS München Süd
END:VEVENT
END:VCALENDAR