BEGIN:VCALENDAR
VERSION:2.0
PRODID:-//Stadtgeschichte München//DE
CALSCALE:GREGORIAN
BEGIN:VEVENT
UID:1374@stadtgeschichte-muenchen.de
SUMMARY:Der Waldfriedhof - ein Stück Münchner Geschichte
DESCRIPTION:&lt;p&gt;Allein wegen seiner malerischen Anlage ist der Waldfriedhof schon einen Besuch wert. Auch wenn er nicht ganz so bekannt wie der&amp;nbsp;&amp;nbsp; Alte Südliche Friedhof ist, so ist er doch auch letzte Ruhestätte für viele Prominente. So sind hier Architekten, die das Münchner&amp;nbsp; Stadtbild geprägt haben, wie Hans Grässel, der als Stadtbaurat den Friedhof konzipiert hatte, Komponisten, Maler und Schauspieler&amp;nbsp; wie Ida Schumacher, Elise Aulinger oder Fritz Kortner bestattet. Auf dem Rundgang werden viele künstlerisch wertvolle Grabstätten besucht, die von berühmten Bildhauern gestaltet wurden.&lt;/p&gt; 
DTSTART:20111009T140000
DTEND:20111009T163000
LOCATION:Waldfriedhof, Haupteingang - Fürstenrieder Str. 288 
ORGANIZER:MVHS München Süd
END:VEVENT
END:VCALENDAR