BEGIN:VCALENDAR
VERSION:2.0
PRODID:-//Stadtgeschichte München//DE
CALSCALE:GREGORIAN
BEGIN:VEVENT
UID:13788@stadtgeschichte-muenchen.de
SUMMARY:München wird besser
DESCRIPTION:&lt;p&gt;Täglich hören wir von menschengemachten Naturkatastrophen, zunehmender Armut und Hunger.&lt;/p&gt; &lt;p&gt;Dem setzt sich der Lebensstil der Nachhaltigkeit entgegen. Er soll unser künftiges, besseres Leben prägen: Wo und wie ist dies möglich? Die Tour zeigt viele bekannte und unbekannte Orte, wo echte Nachhaltigkeit bereits gelebt wird.&lt;/p&gt; &lt;p&gt;Wir geben Anregungen, Nachhaltigkeit im eigenen Alltag zu verwirklichen. Eine Tour für Einheimische und Auswärtige.&lt;/p&gt; &lt;p&gt;&lt;em&gt;Endpunkt: Zwischengeschoss U/S-Bahn Marienplatz&lt;/em&gt;&lt;/p&gt; 
DTSTART:20170727T170000
DTEND:20170727T180000
LOCATION:Bushaltestelle Nationalmuseum (stadteinwärts)
ORGANIZER:STATTreisen München e.V.
END:VEVENT
END:VCALENDAR