BEGIN:VCALENDAR
VERSION:2.0
PRODID:-//Stadtgeschichte München//DE
CALSCALE:GREGORIAN
BEGIN:VEVENT
UID:1381@stadtgeschichte-muenchen.de
SUMMARY:Freiham: Ein neuer Stadtteil entsteht
DESCRIPTION:&lt;p&gt;Mit Freiham – am westlichen Münchner Stadtrand gelegen – entsteht ein völlig neuer Stadtteil. Das Gewerbegebiet im Süden nimmt bereits mehr und mehr bauliche Gestalt an. Und die ersten Bewohner/innen von insgesamt 20 000 geplanten „Freihamern“ sind bereits eingezogen. Wie sehen die nächsten Planungsschritte und Realisierungszeiträume aus? Welche Infrastruktur (Bildung, Soziales, Kultur, Naherholung, Verkehr, Gewerbe etc.) ist vorgesehen? Welche Lebensqualität wird der künftige Stadtteil bieten? Über den aktuellen Planungsstand informiert ein/e Mitarbeiter/in des Referats für Stadtplanung und Bauordnung.&lt;/p&gt; 
DTSTART:20120209T193000
DTEND:20120209T210000
LOCATION:Volkshochschule Â· Bäckerstr. 14 
ORGANIZER:MVHS München West
END:VEVENT
END:VCALENDAR