BEGIN:VCALENDAR
VERSION:2.0
PRODID:-//Stadtgeschichte München//DE
CALSCALE:GREGORIAN
BEGIN:VEVENT
UID:13811@stadtgeschichte-muenchen.de
SUMMARY:Archäologisches Schaufenster: Grabungen in München
DESCRIPTION:&lt;p&gt;Führung mit Dr. Elke Bujok, Archäologische Staatssammlung in der Kabinett-Ausstellung &quot;Archäologisches Schaufenster: Grabungen in München&quot;&lt;br /&gt; &amp;nbsp;&lt;/p&gt; 
DTSTART:20171211T180000
DTEND:20171211T000000
LOCATION:Foyer des Münchner Stadtmuseums
ORGANIZER:Münchner Stadtmuseum
END:VEVENT
END:VCALENDAR