BEGIN:VCALENDAR
VERSION:2.0
PRODID:-//Stadtgeschichte München//DE
CALSCALE:GREGORIAN
BEGIN:VEVENT
UID:1382@stadtgeschichte-muenchen.de
SUMMARY:Stadtteilspaziergang in Aubing-Neuaubing
DESCRIPTION:&lt;p&gt;In Aubing-Neuaubing wird sich in den n&amp;auml;chsten Jahrzehnten viel ver&amp;auml;ndern. Bei einem Rundgang durch den Stadtteil werden Probleme und Entwicklungen sowie ihre Auswirkungen aufgezeigt: das Neubaugebiet am S-Bahnhof Aubing, der Ortskern Aubing, der&lt;br /&gt; Planungsstand von Freiham, die Neubebauung am Aubinger Wasserturm, die Auswirkungen der A99-West auf den Verkehr, die bauliche Verdichtung im gesamten Siedlungsbereich, die Gewerbeansiedlungen, die Sportfl&amp;auml;chen sowie die alten und neuen&amp;nbsp; Infrastruktureinrichtungen im Stadtgebiet.&lt;/p&gt;
DTSTART:20111126T140000
DTEND:20111126T170000
LOCATION:S4-Bahnhof Aubing, Ausgang Georg- Böhmer-Str. 
ORGANIZER:MVHS München Mitte   
END:VEVENT
END:VCALENDAR