BEGIN:VCALENDAR
VERSION:2.0
PRODID:-//Stadtgeschichte München//DE
CALSCALE:GREGORIAN
BEGIN:VEVENT
UID:13820@stadtgeschichte-muenchen.de
SUMMARY:Kaiserliche Repräsentation: Karl Albrecht und das Porzellan
DESCRIPTION:&lt;p&gt;Drei Jahre vor seinem Tod erreichte der bayerische Kurfürst Karl Albrecht (1697–1745) sein großes Ziel: er wurde zum Kaiser des Heiligen Römischen Reiches gewählt und gekrönt. Er war damit der einzige Kaiser der Neuzeit, der nicht der Habsburger Familie angehörte. Zum sichtbaren Ausdruck seines Anspruches auf die Kaiserwürde ließ er in den Jahren zuvor die Münchner Residenz kaiserlich ausgestalten. Zur prachtvollen Ausstattung gehörten auch kostbar montierte Porzellane sowie ein komplett vergoldetes Porzellanservice, wie es die Welt noch nicht gesehen hat.&lt;/p&gt; 
DTSTART:20170813T110000
DTEND:20170813T120000
LOCATION:Bayerisches Nationalmuseum, Kassenraum
ORGANIZER:Bayerisches Nationalmuseum
END:VEVENT
END:VCALENDAR