BEGIN:VCALENDAR
VERSION:2.0
PRODID:-//Stadtgeschichte München//DE
CALSCALE:GREGORIAN
BEGIN:VEVENT
UID:13822@stadtgeschichte-muenchen.de
SUMMARY:Die Münchner Volkssänger
DESCRIPTION:
DTSTART:20171022T143000
DTEND:20171022T170000
LOCATION:Unter dem Bogen des Karlstores
ORGANIZER:Münchner Zeitensprünge
END:VEVENT
END:VCALENDAR