BEGIN:VCALENDAR
VERSION:2.0
PRODID:-//Stadtgeschichte München//DE
CALSCALE:GREGORIAN
BEGIN:VEVENT
UID:13826@stadtgeschichte-muenchen.de
SUMMARY:Literarischer Spaziergang 
DESCRIPTION:&lt;p&gt;Sein erstes Eis nannte Sigi Sommer &quot;Konfektionseis&quot;, weil es von der Stange des schweigsamen Bierfahrers kam, der es mit seinem spitzen Stachel aus dem Pferdewagen herauszog... Die Zeit von damals erscheint durch die lebendige Formulierungskunst Sigi Sommers sofort vor Augen.&amp;nbsp;&lt;/p&gt; &lt;p&gt;Mit Präzession schilderte er auch das anstrengende Braun werden der &quot;Schwestern der großen Freiheit&quot; hinter dem eingezäunten Nackedei-Kral in Bad Maria Einsiedel. &amp;nbsp;&lt;/p&gt; &lt;p&gt;Und heute nicht mehr vorstellbar, beschrieb er akribisch den &quot;Stöberbazillus&quot;, von dem auch die Automobilisten befallen wurden, die sonntags an der Floßlände ihre Familien-Archen persönlich aufbrezelten.&lt;/p&gt; &lt;p&gt;Als Chronist der Stadt interessierte sich Sigi Sommer für alles Neue. Unbestechlich schilderte er die Qualen der Touristen auf dem in den 1950-er Jahren eröffneten Campingplatz in Thalkirchen, dem &quot;städtischen Ischias-Anger&quot; hinter dem zarten Stacheldraht.&lt;/p&gt; &lt;p&gt;Route: Thalkirchener Platz, Bad Maria Einsiedel, Zentrallände, &amp;nbsp;Campingplatz Thalkirchen.&lt;/p&gt; 
DTSTART:20170823T180000
DTEND:20170823T193000
LOCATION:Eisdiele am Thalkirchener Platz (Haltestelle U 3)
ORGANIZER:Lauterbach-Sommer Helga
END:VEVENT
END:VCALENDAR