BEGIN:VCALENDAR
VERSION:2.0
PRODID:-//Stadtgeschichte München//DE
CALSCALE:GREGORIAN
BEGIN:VEVENT
UID:13830@stadtgeschichte-muenchen.de
SUMMARY:&quot;Haidhausen, der vielleicht spannendste Stadtteil Münchens&quot; 
DESCRIPTION:Hermann Wilhelm, Leiter des Haidhausen-Museums, führt durch die von ihm gestaltete Ausstellung &quot;Haidhausen, der vielleicht spannendste Stadtteil Münchens&quot; im Gasteig und lässt über 50 Jahre Haidhauser Stadt- und Stadtteilgeschichte Revue passieren: das Ende des Zweiten Weltkriegs, die &quot;langsame Rückkehr zur Normalität&quot; in den 50er und 60er Jahren, das Eintreffen italienischer &quot;Gastarbeiter&quot; am Ostbahnhof in den 60er Jahren, der Zuzug von Künstlern in den 70er und 80er Jahren, die Entwicklung Haidhausens hin zum Sanierungsgebiet. Ein Ausblick auf aktuelle Ereignisse schließt die Führung ab. In Kooperation mit dem Haidhausen-Museum
DTSTART:20180112T170000
DTEND:20180112T183000
LOCATION:Gasteig; Gasteig Foyer 1. Stock, vor MVHS Infothek
ORGANIZER:MVHS München Mitte   
END:VEVENT
END:VCALENDAR