BEGIN:VCALENDAR
VERSION:2.0
PRODID:-//Stadtgeschichte München//DE
CALSCALE:GREGORIAN
BEGIN:VEVENT
UID:13835@stadtgeschichte-muenchen.de
SUMMARY:Spurensuche in der Bayerischen Wirtschaftsgeschichte 
DESCRIPTION:Die Münchner liebten es exotisch: Schon 1892 führte der Löwenbräu-Keller auf seiner Speisekarte die \"Congo-Suppe\", erhältlich für 15 Pfennig. Im Bayerischen Wirtschaftsarchiv hat sich dieses reich illustrierte Erinnerungsstück erhalten. In den Schatzkammern des Archivs ist eine Vielzahl bekannter Traditionsnamen zu finden: Löwenbräu, Krauss-Maffei oder Rodenstock. Für Sie öffnet das Bayerische Wirtschaftsarchiv seine streng gehüteten Magazine und zeigt seine wertvollen Originale.
DTSTART:20180125T160000
DTEND:20180125T170000
LOCATION:Bayerisches Wirtschaftsarchiv, Orleanstr. 10-12
ORGANIZER:MVHS München Mitte   
END:VEVENT
END:VCALENDAR