BEGIN:VCALENDAR
VERSION:2.0
PRODID:-//Stadtgeschichte München//DE
CALSCALE:GREGORIAN
BEGIN:VEVENT
UID:13843@stadtgeschichte-muenchen.de
SUMMARY:Schwabing - „auf Krawall gebürstet“?
DESCRIPTION:&lt;p&gt;Die &lt;strong&gt;„&lt;/strong&gt;Schwabinger Krawalle&lt;strong&gt;“&lt;/strong&gt; von 1962 - vor 55 Jahren - waren ein Vorspiel für das Entstehen einer neuen Bürgerbewegung in den Folgejahren. Die &lt;strong&gt;„&lt;/strong&gt;bewegliche Masse&lt;strong&gt;“&lt;/strong&gt; der Studenten spielte dabei eine tragende Rolle. Aus den &quot;Demos&quot;, &lt;strong&gt;„&lt;/strong&gt;Sit-ins&quot; und &quot;Teach-ins&lt;strong&gt;“&lt;/strong&gt; der 68er entstanden auch Bürgerinitiativen, die breitere Schichten erfassten, etwa die &lt;strong&gt;„&lt;/strong&gt;Aktion Maxvorstadt&lt;strong&gt;“&lt;/strong&gt;, der Kampf um den Leopoldpark und die Gründung des Seidl-Villa-Vereins. Thematisiert werden, neben dem &lt;strong&gt;„&lt;/strong&gt;Schwabinger Lebensgefühl&lt;strong&gt;“&lt;/strong&gt;, die baulichen Veränderungen an der Leopoldstraße sowie rund um den Leopoldpark.&lt;/p&gt; 
DTSTART:20171022T110000
DTEND:20171022T130000
LOCATION:Treffpunkt Eingangstor der Seidlvilla, Nikolaiplatz 1b
ORGANIZER:MVHS München Mitte   
END:VEVENT
END:VCALENDAR