BEGIN:VCALENDAR
VERSION:2.0
PRODID:-//Stadtgeschichte München//DE
CALSCALE:GREGORIAN
BEGIN:VEVENT
UID:13845@stadtgeschichte-muenchen.de
SUMMARY:Ein Besuch bei der Beratungsstelle Frauennotruf München
DESCRIPTION:Für Frauen, die sexuelle Übergriffe oder Partnergewalt erlebt haben, sowie für ihre Bezugspersonen ist der Frauennotruf München eine wichtige Anlauf- und Beratungsstelle. Neben Beratung und Traumatherapie bietet er auch Selbstbehauptungskurse und Fortbildungen zu sexueller Belästigung am Arbeitsplatz und beteiligt sich jedes Jahr an der Aktion \"Sichere Wiesn für Mädchen und Frauen\" auf dem Oktoberfest. Erfahren Sie bei einem Besuch vor Ort mehr über den Frauennotruf und seine vielfältigen Arbeitsfelder. In Kooperation mit dem Frauennotruf München
DTSTART:20171025T170000
DTEND:20171025T183000
LOCATION:Treffpunkt: Frauennotruf München, Saarstr. 5
ORGANIZER:MVHS München Mitte   
END:VEVENT
END:VCALENDAR