BEGIN:VCALENDAR
VERSION:2.0
PRODID:-//Stadtgeschichte München//DE
CALSCALE:GREGORIAN
BEGIN:VEVENT
UID:13853@stadtgeschichte-muenchen.de
SUMMARY:Die Brienner Straße im Wandel der Zeit
DESCRIPTION:&lt;p&gt;Stararchitekten wie Klenze, Gärtner und die Seidl-Brüder haben die einstige königlich-bayrische Nobelmeile geprägt. Mit der Brienner Straße verbunden sind auch berühmte Namen wie Schack, Lenbach und Bernheimer. Tiefe Spuren haben später Nationalsozialismus, Krieg, Wiederaufbau und städtebauliche Interventionen hinterlassen. Zukunftsweisende Perspektiven eröffneten sich für die Brienner Straße durch den Neubau der Siemenszentrale, die Erweiterung des Lenbachhauses und das NS-Dokumentationszentrum.&lt;/p&gt; 
DTSTART:20171112T110000
DTEND:20171112T130000
LOCATION:Treffpunkt Odeonsplatz, Feldherrnhalle
ORGANIZER:MVHS München Mitte   
END:VEVENT
END:VCALENDAR