BEGIN:VCALENDAR
VERSION:2.0
PRODID:-//Stadtgeschichte München//DE
CALSCALE:GREGORIAN
BEGIN:VEVENT
UID:13873@stadtgeschichte-muenchen.de
SUMMARY:Die Ludwigsvorstadt und die \"Alte Anatomie\"
DESCRIPTION:Nachdem Bayern ein Königreich geworden war, begannen die Planungen für die Erweiterung der rasch wachsenden Hauptstadt. Westlich der Sendlinger Haid sollte ein exklusives Wohnviertel entstehen: die Ludwigsvorstadt. Heute kann man hier herrschaftliche Villen und schöne Mietshäuser, die bemerkenswerten Klinikbauten der Jahrhundertwende sowie das Kleinod St. Elisabeth bewundern. Die Alte Anatomie von Max Littmann ist ein architektonischer Höhepunkt in diesem Stadtviertel, das sich derzeit, etwa durch die Verlagerung von Kliniken nach Großhadern, im Umbruch befindet.
DTSTART:20180225T130000
DTEND:20180225T150000
LOCATION:Treffpunkt: Sendlinger Tor/Ecke Nußbaumstr.
ORGANIZER:MVHS München Mitte   
END:VEVENT
END:VCALENDAR