BEGIN:VCALENDAR
VERSION:2.0
PRODID:-//Stadtgeschichte München//DE
CALSCALE:GREGORIAN
BEGIN:VEVENT
UID:1388@stadtgeschichte-muenchen.de
SUMMARY:KraussMaffei Technologies GmbH â€“ ein Weltunternehmen
DESCRIPTION:&lt;p&gt;KraussMaffei z&amp;auml;hlt zu den weltweit f&amp;uuml;hrenden Herstellern f&amp;uuml;r Kunststoffmaschinen und bietet als einziges Unternehmen drei&amp;nbsp; wesentliche Maschinentechnologien f&amp;uuml;r die Kunststoff und Gummi produzierende und verarbeitende Industrie an. Als&amp;nbsp; Technologiepartner verkn&amp;uuml;pft das Unternehmen gezieltes Prozess-Know-how in den Verarbeitungsverfahren mit innovativer&amp;nbsp; Maschinentechnik zu spezialisierten und integrierten Komplettl&amp;ouml;sungen. Nach einem kurzen Vortrag &amp;uuml;ber KraussMaffei- Kunststofftechnik geht der Rundgang zum Technikum Spritzguss, zur Produktion von Klein- und Gro&amp;szlig;maschinen. Dann werden die&amp;nbsp; Bereiche Extrusionstechnik und Reaktionstechnik besichtigt. Anschlie&amp;szlig;end l&amp;auml;dt KraussMaffei zu einem kleinen Imbiss in der&amp;nbsp; Werkskantine ein. Kinder k&amp;ouml;nnen nur in Begleitung der Eltern an der F&amp;uuml;hrung teilnehmen. Das Mindestalter betr&amp;auml;gt 14 Jahre.&amp;nbsp; Parkpl&amp;auml;tze sind nur begrenzt vorhanden.&lt;/p&gt;
DTSTART:20111021T100000
DTEND:20111021T130000
LOCATION:Hauptpforte KraussMaffei Kunststofftechnik Â· Krauss-Maffei-Str. 2 
ORGANIZER:MVHS München Mitte   
END:VEVENT
END:VCALENDAR