BEGIN:VCALENDAR
VERSION:2.0
PRODID:-//Stadtgeschichte München//DE
CALSCALE:GREGORIAN
BEGIN:VEVENT
UID:1389@stadtgeschichte-muenchen.de
SUMMARY:Das Sand- und Kieswerk Riebel GmbH in Allach
DESCRIPTION:&lt;p&gt;Im Allacher Werk wird Sand und Kies aus nat&amp;uuml;rlichen Vorkommen im Nassabbau gewonnen und zu gebrauchsf&amp;auml;higem Material f&amp;uuml;r die Bauindustrie weiterverarbeitet. Bei einer F&amp;uuml;hrung haben Sie die M&amp;ouml;glichkeit, einige Produktionsabl&amp;auml;ufe kennen zu lernen: von der&amp;nbsp; Kiesgewinnung unter Wasser &amp;uuml;ber die Sortierung in die unterschiedlich erforderlichen Steingr&amp;ouml;&amp;szlig;en, die direkte Weiterverwertung des Kieses auf dem Firmengel&amp;auml;nde zu Transportbeton oder Asphalt bis zur Renaturierung der Abbaust&amp;auml;tten bzw. der Anlage von Biotopen.&lt;br /&gt; Bitte festes Schuhwerk mitbringen.&lt;/p&gt; &lt;br /&gt;
DTSTART:20111020T093000
DTEND:20111020T113000
LOCATION:Kieswerk Einfahrtstor, Paul-Ehrlich- Weg 130
ORGANIZER:MVHS München Mitte   
END:VEVENT
END:VCALENDAR