BEGIN:VCALENDAR
VERSION:2.0
PRODID:-//Stadtgeschichte München//DE
CALSCALE:GREGORIAN
BEGIN:VEVENT
UID:13891@stadtgeschichte-muenchen.de
SUMMARY:Imperiales Geschenk als Provokation
DESCRIPTION:&lt;p&gt;Die Bindung Bayerns an Napoleon löste am Münchner Hof emotionsgeladene Gegensätze aus. Der Empéreur ließ sich die Bemühungen, die Herzen aller Wittelsbacher mittels diplomatischer Geschenke zu gewinnen, einiges kosten. Sie waren im Kunsthandwerk für lange Zeit das Prächtigste, das in München zu sehen war. Die kulturelle Ausrichtung an Frankreich überdauerte das Bündnis und der Empirestil blieb in Bayern noch längere Zeit gefragt.&lt;/p&gt; 
DTSTART:20170820T110000
DTEND:20170820T120000
LOCATION:Kassenraum
ORGANIZER:Bayerisches Nationalmuseum
END:VEVENT
END:VCALENDAR