BEGIN:VCALENDAR
VERSION:2.0
PRODID:-//Stadtgeschichte München//DE
CALSCALE:GREGORIAN
BEGIN:VEVENT
UID:13892@stadtgeschichte-muenchen.de
SUMMARY:Öffentliche Führungen in der Monacensia
DESCRIPTION:&lt;p&gt;Zu einer kostenlosen Führung durch die Dauerausstellungen &quot;Literarisches München zur Zeit von Thomas Mann&quot; und &quot;Das Hildebrandhaus. Biografie einer Künstlervilla&quot; lädt Sie die Münchner Volkshochschule herzlich ein.&lt;/p&gt; 
DTSTART:20170820T140000
DTEND:20170820T000000
LOCATION:Glasanbau, Eingang Siebertstr. 2
ORGANIZER:Monacensia
END:VEVENT
END:VCALENDAR