BEGIN:VCALENDAR
VERSION:2.0
PRODID:-//Stadtgeschichte München//DE
CALSCALE:GREGORIAN
BEGIN:VEVENT
UID:1390@stadtgeschichte-muenchen.de
SUMMARY:St. Quirin   Kirchen- und Turmführung
DESCRIPTION:&lt;p&gt;Nachdem die Kirche St. Quirin in München-Aubing 2009 komplett restauriert worden ist, kann wieder eine Kirchen- und Turmführung vorgenommen werden. Bei der Führung wird die Kirche, die 1422 völlig abbrannte, als eine der ältesten Kirchen Münchens erläutert.&lt;br /&gt; Wir besichtigen die 1489 eingeweihte, neue gotisch-barocke Kirche und begehen den über 700 Jahre alten Turm. Es wird das neue&amp;nbsp; Geläute der fünf Glocken eingeschaltet und beim Rückgang der besterhaltene gotische Dachstuhl von Oberbayern gezeigt. In&amp;nbsp; Zusammenarbeit mit dem Pfarrarchiv St. Quirin, München-Aubing.&lt;/p&gt; 
DTSTART:20120122T160000
DTEND:20120122T173000
LOCATION:Kircheneingang, Ubostr. 6 
ORGANIZER:MVHS München West
END:VEVENT
END:VCALENDAR