BEGIN:VCALENDAR
VERSION:2.0
PRODID:-//Stadtgeschichte München//DE
CALSCALE:GREGORIAN
BEGIN:VEVENT
UID:13901@stadtgeschichte-muenchen.de
SUMMARY:Von Kastraten und Primadonnen
DESCRIPTION:&lt;p&gt;Felippo Balatri, im 18. Jahrhundert einer der best bezahlten Soprankastraten am Münchner Hof, nahm es mit Humor. Trotz seines ungeliebten Jobs am kurfürstlichen Hof, trotz gelegentlicher &quot;Hypochondrien&quot; und Gemütsleiden hinterließ er der Nachwelt ein umfangreiches, von Witz und scharfer Beobachtungsgabe gespicktes Tagebuch. Seine köstlichen Aufzeichnungen sind ein einzigartiges Dokument aus der von Pracht und Prunk geprägten Opernwelt des barocken München. Ein Rundgang, der uns an die Originalschauplätze führt und vom Erfolg, aber auch von den Schattenseiten eines Kastratenlebens erzählt. &amp;nbsp;&lt;/p&gt; &lt;p&gt;&lt;strong&gt;Führung mit Musikbeispielen&amp;nbsp;&lt;/strong&gt;&lt;/p&gt; 
DTSTART:20171125T140000
DTEND:20171125T153000
LOCATION:Max-Joseph-Platz am Denkmal
ORGANIZER:Münchner Musikspaziergänge
END:VEVENT
END:VCALENDAR