BEGIN:VCALENDAR
VERSION:2.0
PRODID:-//Stadtgeschichte München//DE
CALSCALE:GREGORIAN
BEGIN:VEVENT
UID:1392@stadtgeschichte-muenchen.de
SUMMARY:Kulturgeschichtspfad Laim â€“ Stadtteilspaziergang
DESCRIPTION:&lt;p&gt;Die Kulturgeschichtspfade in M&amp;uuml;nchen zeigen historisch bedeutsame Orte, H&amp;auml;user, Personen und Geschehnisse der einzelnen&amp;nbsp; Stadtteile &amp;ndash;auch die weniger bekannten. Bei genauerem Hinschauen lassen sich auch in Laim viele der historisch gewachsenen Strukturen und die Entwicklung vom Bauerndorf (das &amp;auml;lter als M&amp;uuml;nchen ist) zum Gro&amp;szlig;stadtviertel erkennen. Dabei hat die Anbindung an die Eisenbahn sein Gesicht entscheidend gepr&amp;auml;gt. Stationen des Rundgangs: das Gesch&amp;auml;ftszentrum an der F&amp;uuml;rstenrieder Stra&amp;szlig;e, die F&amp;uuml;rstenrieder Schule (das Wahrzeichen Laims), der alte Ortskern mit der St. Ulrich-Kirche (1315 erstmals erw&amp;auml;hnt), das Laimer Schl&amp;ouml;ssl, das Interim (ehemaliger Stall und heute ein Kulturzentrum), die Eisenbahnerkolonie und die Theodor-Fischer-Siedlung.&amp;nbsp; W&amp;auml;hrend des Spaziergangs werden Sie auch &amp;uuml;ber die st&amp;auml;dtebaulichen Entwicklungen jenseits der Bahnstrecke informiert.&lt;/p&gt;
DTSTART:20111015T100000
DTEND:20111015T123000
LOCATION:Volkshochschule, Fürstenrieder Str. 53
ORGANIZER:MVHS München Mitte   
END:VEVENT
END:VCALENDAR