BEGIN:VCALENDAR
VERSION:2.0
PRODID:-//Stadtgeschichte München//DE
CALSCALE:GREGORIAN
BEGIN:VEVENT
UID:13926@stadtgeschichte-muenchen.de
SUMMARY:Die russisch-orthodoxe Kirche der Neumärtyrer am Perlacher Forst
DESCRIPTION:&lt;p&gt;Durch den Friedhof am Perlacher Frorst führt der Weg zunächst zu den Gräbern von Mitgliedern der „Weißen Rose&quot;, den Geschwistern Scholl und insbesondere Alexander Schmorell. Dieser wurde in der nahe gelegenen russisch-orthodoxe Kirche&amp;nbsp; heilig gesprochen und in den Kreis der Neumärtyrer aufgenommen. Im Innern der Kirche treffen die Besucher heute auf die große Tradition der russischen Ikonenmalerei Nach der Führung besteht bei einer Teerunde&amp;nbsp; die Möglichkeit von einem Gemeindemitglied vertiefende Informationen zu Geschichte und Besonderheiten der Gemeinde zu erhalten.&lt;/p&gt; 
DTSTART:20171110T140000
DTEND:20171110T163000
LOCATION:Friedhof am Perlacher Forst, StadelheimerStr. 24 
ORGANIZER:MVHS München Ost
END:VEVENT
END:VCALENDAR