BEGIN:VCALENDAR
VERSION:2.0
PRODID:-//Stadtgeschichte München//DE
CALSCALE:GREGORIAN
BEGIN:VEVENT
UID:1393@stadtgeschichte-muenchen.de
SUMMARY:Das Steinway-Haus München
DESCRIPTION:&lt;p&gt;Das renommierte Steinway-Haus M&amp;uuml;nchen kann auf eine lange, erfolgreiche Geschichte zur&amp;uuml;ckblicken. 1912 von Karl Lang gegr&amp;uuml;ndet, entwickelte sich das Familienunternehmen schnell zum gr&amp;ouml;&amp;szlig;ten Klavierfachgesch&amp;auml;ft Deutschlands. In edlem Ambiente pr&amp;auml;sentieren wir Ihnen die ber&amp;uuml;hmtesten und begehrtesten Fabrikate: &amp;bdquo;Steinway &amp;amp; Sons&amp;ldquo;. Bei einem Vortrag und einer F&amp;uuml;hrung durch die Werkst&amp;auml;tte des Steinway-Hauses erhalten Sie Einblick in den Aufbau und die Fertigung der weltber&amp;uuml;hmten Fl&amp;uuml;gel.&lt;/p&gt;
DTSTART:20120126T150000
DTEND:20120126T163000
LOCATION:Steinway-Haus Â· Landsberger Str. 336
ORGANIZER:MVHS München Mitte   
END:VEVENT
END:VCALENDAR