BEGIN:VCALENDAR
VERSION:2.0
PRODID:-//Stadtgeschichte München//DE
CALSCALE:GREGORIAN
BEGIN:VEVENT
UID:1395@stadtgeschichte-muenchen.de
SUMMARY:Besuch in der Bäckerei Hoffmann
DESCRIPTION:&lt;p&gt;ie sieht es in einer richtigen Backstube aus? Wie werden all&amp;lsquo; die Weihnachtsleckereien hergestellt? Das erfahrt Ihr von Herrn&amp;nbsp; Hoffmann, dem B&amp;auml;cker- und Konditormeister. Gemeinsam mit ihm und seinen Konditorinnen backt Ihr dann ein feines Lebkuchenhaus, das Ihr mit Zuckerguss, S&amp;uuml;&amp;szlig;igkeiten, Rosinen und N&amp;uuml;ssen verziert und nat&amp;uuml;rlich mit nach Hause nehmen k&amp;ouml;nnt!&lt;/p&gt;
DTSTART:20111122T150000
DTEND:20111122T163000
LOCATION:Bäckerei in der Reutterstr. 42 
ORGANIZER:MVHS München Mitte   
END:VEVENT
END:VCALENDAR