BEGIN:VCALENDAR
VERSION:2.0
PRODID:-//Stadtgeschichte München//DE
CALSCALE:GREGORIAN
BEGIN:VEVENT
UID:13957@stadtgeschichte-muenchen.de
SUMMARY:Nord-Ost-Forum
DESCRIPTION:&lt;p&gt;Im Münchner Nordosten wurden rund 600 Hektar Fläche für eine Städtebauliche Entwicklungsmaßnahme ausgewiesen, auf denen Wohnungen für bis zu 30 000 Menschen und bis zu 10 000 Arbeitsplätze entstehen sollen. Im Frühjahr 2017 wurden hierfür drei Planungsvarianten der Öffentlichkeit vorgestellt und diskutiert. Wie kaum anders zu erwarten, werden die Planungen in Politik und Bevölkerung sehr kontrovers diskutiert. Ab Herbst 2017 wollen wir in einer Ideenschmiede zur Entwicklungsmaßnahme konkrete Einzelthemen diskutieren und Lösungsansätze dafür vorschlagen. Ort, Termine und Themen werden über Sonderveröffentlichungen und die Tagespresse noch mitgeteilt.&lt;br /&gt; In Zusammenarbeit mit dem Bezirksausschuss 13 Bogenhausen, dem ökologischen Bildungszentrum und dem NordOstKultur e. V.&lt;/p&gt; 
DTSTART:20170920T190000
DTEND:20170920T200000
LOCATION:Volkshochschule, Rosenkavalierplatz 16
ORGANIZER:MVHS München Ost
END:VEVENT
END:VCALENDAR