BEGIN:VCALENDAR
VERSION:2.0
PRODID:-//Stadtgeschichte München//DE
CALSCALE:GREGORIAN
BEGIN:VEVENT
UID:13965@stadtgeschichte-muenchen.de
SUMMARY:Dynamo Fahrradservice Biss e.V.
DESCRIPTION:&lt;p&gt;Schon im Gründungsjahr 1986 war Dynamo Nachhaltigkeits-Pionier durch Förderungd es Radverkehrs, des zweiten Arbeitsmarktes und durch Recycling. Sein Ziel heute: Förderung, berufliche Qualifizierung, Bildung und Arbeitsplatzbeschaffung von langzeitarbeitslosen und benachteiligten Menschen. Dynamo kooperiert eng mit der Münchner Straßenzeitschrift BISS und dem Gemeinschaftsprojekt PULPO, das alte Fahrradschläuche recycelt und zu exklusivenTaschen und Accessoires verarbeitet. Nach einer Informationsrunde beginnt ein kleiner „ Upcycling-Workshop&quot;.&lt;/p&gt; &lt;p&gt;Veranstaltung gebührenfrei, geringe Spende für Materialkosten vor Ort. Rechtzeitige Anmeldung 1 Woche vorab erwünscht.&lt;/p&gt; 
DTSTART:20171124T110000
DTEND:20171124T123000
LOCATION:Dynamo Fahrradservice Biss e.V., vor dem Eingang Haager Str. 11 
ORGANIZER:MVHS München Ost
END:VEVENT
END:VCALENDAR