BEGIN:VCALENDAR
VERSION:2.0
PRODID:-//Stadtgeschichte München//DE
CALSCALE:GREGORIAN
BEGIN:VEVENT
UID:13966@stadtgeschichte-muenchen.de
SUMMARY:kurz&amp;gut : Von der Stadtbibliothek zur Monacensia im Hildebrandhaus
DESCRIPTION:&lt;p&gt;Nach einem Blick in die Stadtbibliothek am Rosenkavalierplatz fahren wir mit der Tram Richtung Monacensia und besuchen vorab den Bogenhauser Friedhof mit den Ruhestätten der Literaten, denen wir auch in der Monacensia begegnen: Annette Kolb, Oskar Maria Graf, Wilhelm Hausenstein, Erich Kästner, Joachim Fernau oder der Schauspielerin, Komikerin und Kabarettistin Liesl Karlstadt. Von St. Georg geht es dann zu Fuß zur Monacensia, die das „ literarische Gedächtnis&quot; der Stadt München (Literaturarchiv), die München-Bibliothek&lt;br /&gt; und die Münchner Autoren- und Autorinnen-Bibliothek beherbergt.&lt;/p&gt; &lt;p&gt;kurz&amp;amp;gut - ein Angebot der MVHS und der Münchner Stadtbibliothek.&lt;br /&gt; Bitte eine MW-Karte mitbringen&lt;/p&gt; 
DTSTART:20171027T140000
DTEND:20171027T153000
LOCATION:Stadtbibliothek, Rosenkavalierplatz 16
ORGANIZER:MVHS München Ost
END:VEVENT
END:VCALENDAR