BEGIN:VCALENDAR
VERSION:2.0
PRODID:-//Stadtgeschichte München//DE
CALSCALE:GREGORIAN
BEGIN:VEVENT
UID:1397@stadtgeschichte-muenchen.de
SUMMARY:Jugendstil in Neuhausen
DESCRIPTION:&lt;p&gt;Wie in allen gutbürgerlichen Münchner Wohnvierteln, so sind auch in Neuhausen viele originelle Jugendstil-Mietshäuser und -Villen zu finden. Auf unserem Rundgang lernen wir Werke von Spitzenarchitekten wie Richard Berndl, Martin Dülfer, Karl Hocheder, Max&amp;nbsp; Littmann oder Friedrich Thiersch kennen, die bisher viel zu wenig beachtet wurden. Auch die Stadtplanung Neuhausens war den besten Fachkräften anvertraut – die Vorteile von Theodor Fischers Planung mit ihrer aufgelockerten Bebauung wissen auch die&amp;nbsp; heutigen Bewohner noch zu schätzen.&lt;/p&gt; 
DTSTART:20111127T140000
DTEND:20111127T160000
LOCATION:U-Bahnhaltestelle Rotkreuzplatz, Ausgang Volkartstr./Ost 
ORGANIZER:MVHS München West
END:VEVENT
END:VCALENDAR