BEGIN:VCALENDAR
VERSION:2.0
PRODID:-//Stadtgeschichte München//DE
CALSCALE:GREGORIAN
BEGIN:VEVENT
UID:13974@stadtgeschichte-muenchen.de
SUMMARY:Das Prinzregententheater und die Theaterakademie August Everding
DESCRIPTION:&lt;p&gt;Das über hundertjährige Prinzregententheater mit seiner modernen Bühnentechnik ist neben dem Bayreuther Festspielhaus der einzige Theaterbau, der die Theateridee Richard Wagners und die damit verbundene Architektur aufgreift. Heute ist es Sitz der Theaterakademie August Everding, einer Ausbildungsstätte für acht Theaterberufe. Die Besucher erhalten Einblick in den amphitheatralischen Zuschauerraum, die Haupt- und Hinterbühne und - je nach Möglichkeit - die Unterbühne, den Bereich der Akademietheater und den Gartensaal.&lt;/p&gt; &lt;p&gt;&lt;br /&gt; Aufgrund enger Treppen und schmaler Gänge für Personen mit Gehbehinderung leider nicht geeignet.&lt;/p&gt; 
DTSTART:20171201T100000
DTEND:20171201T113000
LOCATION:Prinzregententheater, Foyer Prinzregentenplatz 12
ORGANIZER:MVHS München Ost
END:VEVENT
END:VCALENDAR