BEGIN:VCALENDAR
VERSION:2.0
PRODID:-//Stadtgeschichte München//DE
CALSCALE:GREGORIAN
BEGIN:VEVENT
UID:13999@stadtgeschichte-muenchen.de
SUMMARY:Spaziergang über den Grünwalder Waldfriedhof
DESCRIPTION:&lt;p&gt;,,Der Mensch ist erst wirklich tot, wenn niemand an ihn denkt.&quot; (Bertold Brecht)&lt;br /&gt; Prominente, Priester, Rotkreuz-Schwestern, Bombenopfer und Bürgermeister haben zwischen den Bäumen und Sträuchern des Grünwalder Friedhofs ihre letzte Ruhe gefunden. Die Grabstätten berühmter Persönlichkeiten liegen neben denen von bekannten Grünwalder Bürgern. Bei einem Spaziergang durch die Gräberreihen wird die Lebensleistung einzelner Verstorbener gewürdigt. Außerdem werden die Entstehungsgeschichte des Friedhofs und die Architektur der Bauwerke in der ausgedehnten Parkanlage erläutert.&lt;/p&gt; 
DTSTART:20171022T140000
DTEND:20171022T153000
LOCATION:Aussegnungshalleim Grünwalder Friedhof, Tölzer Str. 43
ORGANIZER:MVHS München Ost
END:VEVENT
END:VCALENDAR