BEGIN:VCALENDAR
VERSION:2.0
PRODID:-//Stadtgeschichte München//DE
CALSCALE:GREGORIAN
BEGIN:VEVENT
UID:140@stadtgeschichte-muenchen.de
SUMMARY:München erwacht-ein Erlebnis!
DESCRIPTION:Beginnen Sie den Tag doch einmal mit einem Spaziergang durch das noch stille München. Betrachten Sie ohne Trübe! und Gedränge die Schönheiten und Sehenswürdigkeiten und werfen Sie einen Blick von ganz oben auf die Silhouette der Stadt. Je nach Kondition - entweder nach einem Aufstieg vom Alten Peter aus - oder ein wenig einfacher mit einer Paternosterfahrt im Rathaus.
DTSTART:20110719T080000
DTEND:20110719T100000
LOCATION:Marienplatz am Fischbrunnen
ORGANIZER:MVHS München Mitte   
END:VEVENT
END:VCALENDAR