BEGIN:VCALENDAR
VERSION:2.0
PRODID:-//Stadtgeschichte München//DE
CALSCALE:GREGORIAN
BEGIN:VEVENT
UID:14003@stadtgeschichte-muenchen.de
SUMMARY:Grünwald und die Münchner Romantik: Umrisse und Spuren ihrer Bildkunst
DESCRIPTION:&lt;p&gt;Münchens geistige Strömungen zwischen 1790 und 1850, in denen sich die Auseinandersetzung zwischen Aufklärung und romantisch-restaurativer Weitsicht vollzog, griffen auch auf den Raum Grünwald über. Im Grünwalder und Basler Kunstnachlass zweier Freundinnen der gehobenen bürgerlichen Welt Münchens, Friederike von Abel, geborene Rinecker und Emilie Linder, befinden sich Memorabilien, die deren vielfältige Kontakte zu prägenden Persönlichkeiten aus Politik, Kunst-und Geistesleben belegen und das Wissen um die Entwicklung und Vielfalt romantischer Poesie, Malerei, Graphik, Skulptur, Bau-und Raumkunst sowie Gartenstil erweitern.&lt;/p&gt; 
DTSTART:20171118T100000
DTEND:20171118T150000
LOCATION:Burg Grünwald, Zeillerstr. 3
ORGANIZER:MVHS München Ost
END:VEVENT
END:VCALENDAR